BEGIN:VCALENDAR
VERSION:2.0
PRODID:-//The Episcopal Diocese of Olympia - ECPv6.15.20//NONSGML v1.0//EN
CALSCALE:GREGORIAN
METHOD:PUBLISH
X-WR-CALNAME:The Episcopal Diocese of Olympia
X-ORIGINAL-URL:https://ecww.org
X-WR-CALDESC:Events for The Episcopal Diocese of Olympia
REFRESH-INTERVAL;VALUE=DURATION:PT1H
X-Robots-Tag:noindex
X-PUBLISHED-TTL:PT1H
BEGIN:VTIMEZONE
TZID:America/Los_Angeles
BEGIN:DAYLIGHT
TZOFFSETFROM:-0800
TZOFFSETTO:-0700
TZNAME:PDT
DTSTART:20250309T100000
END:DAYLIGHT
BEGIN:STANDARD
TZOFFSETFROM:-0700
TZOFFSETTO:-0800
TZNAME:PST
DTSTART:20251102T090000
END:STANDARD
BEGIN:DAYLIGHT
TZOFFSETFROM:-0800
TZOFFSETTO:-0700
TZNAME:PDT
DTSTART:20260308T100000
END:DAYLIGHT
BEGIN:STANDARD
TZOFFSETFROM:-0700
TZOFFSETTO:-0800
TZNAME:PST
DTSTART:20261101T090000
END:STANDARD
BEGIN:DAYLIGHT
TZOFFSETFROM:-0800
TZOFFSETTO:-0700
TZNAME:PDT
DTSTART:20270314T100000
END:DAYLIGHT
BEGIN:STANDARD
TZOFFSETFROM:-0700
TZOFFSETTO:-0800
TZNAME:PST
DTSTART:20271107T090000
END:STANDARD
END:VTIMEZONE
BEGIN:VEVENT
DTSTART;TZID=America/Los_Angeles:20260208T100000
DTEND;TZID=America/Los_Angeles:20260208T170000
DTSTAMP:20260424T184034
CREATED:20260121T162345Z
LAST-MODIFIED:20260121T162345Z
UID:63835-1770544800-1770570000@ecww.org
SUMMARY:An Afternoon Delight with Sha'Condria "iCON" Sibley
DESCRIPTION:February 8\, 10:00 am \nBlack History Month at St. Margaret’s\nOn February 8\, Sha’Chondria “Icon” Sibley will be the guest at St. Margaret’s 10:00 am service where she will read 2 of her poems. \nLater that afternoon at 3:00 pm\, St. Margaret’s will present “An Afternoon Delight with Sha’Chondria” where we will spend time with Icon and her artful storytelling. Sandwiches\, cookies\, coffee\, and tea will be available. All are welcome to bring desserts! \nSha’Condria “Icon” Sibley is a Central Louisiana-born and longtime New Orleans-based storyteller and sage\, poet\, writer\, performing artist\, visual artist\, teaching artist\, singer\, songwriter\, actress\, wellness advocate\, and visionary\, whose work centers the voices of (Southern) Blk/Indigenous Women/Girls/People through ancestral remembrance and recollection\, present position and power\, and future hope and healing. Her work spans across page\, stage\, canvas\, music\, talk radio\, and short film.\nRaised in the small-town\, southern missionary Baptist church tradition with an educational background in biology and public health\, her work naturally intersects between spirituality and healing. A proponent of poetry and art as healing and liberation tools\, Icon shares her work and workshops inside schools\, universities\, prisons\, juvenile detention centers\, at conferences and festivals and has worked for over a decade and counting\, creating\, organizing\, and hosting community-centered\, arts-driven events. \nSha’Condria was the artist in residence for the Organizing For Mission Network’s annual Contextual Gathering in June 2025 where eight diocesan members got to spend transformative time with Icon and other faith-based organizers.
URL:https://ecww.org/event/an-afternoon-delight-with-shacondria-icon-sibley/
LOCATION:St. Margaret’s\, Bellevue\, 4228 Factoria Blvd SE\, Bellevue\, WA\, 98006
CATEGORIES:Congregation Event
ATTACH;FMTTYPE=image/png:https://ecww.org/wp-content/uploads/2026/01/Screenshot-2026-01-20-140434.png
ORGANIZER;CN="Lauren Campbell":MAILTO:christianformation@saintmargarets.org
GEO:47.5686675;-122.1688833
X-APPLE-STRUCTURED-LOCATION;VALUE=URI;X-ADDRESS=St. Margaret’s Bellevue 4228 Factoria Blvd SE Bellevue WA 98006;X-APPLE-RADIUS=500;X-TITLE=4228 Factoria Blvd SE:geo:-122.1688833,47.5686675
END:VEVENT
END:VCALENDAR