BEGIN:VCALENDAR
VERSION:2.0
PRODID:-//The Episcopal Diocese of Olympia - ECPv6.15.20//NONSGML v1.0//EN
CALSCALE:GREGORIAN
METHOD:PUBLISH
X-WR-CALNAME:The Episcopal Diocese of Olympia
X-ORIGINAL-URL:https://ecww.org
X-WR-CALDESC:Events for The Episcopal Diocese of Olympia
REFRESH-INTERVAL;VALUE=DURATION:PT1H
X-Robots-Tag:noindex
X-PUBLISHED-TTL:PT1H
BEGIN:VTIMEZONE
TZID:America/Los_Angeles
BEGIN:DAYLIGHT
TZOFFSETFROM:-0800
TZOFFSETTO:-0700
TZNAME:PDT
DTSTART:20250309T100000
END:DAYLIGHT
BEGIN:STANDARD
TZOFFSETFROM:-0700
TZOFFSETTO:-0800
TZNAME:PST
DTSTART:20251102T090000
END:STANDARD
BEGIN:DAYLIGHT
TZOFFSETFROM:-0800
TZOFFSETTO:-0700
TZNAME:PDT
DTSTART:20260308T100000
END:DAYLIGHT
BEGIN:STANDARD
TZOFFSETFROM:-0700
TZOFFSETTO:-0800
TZNAME:PST
DTSTART:20261101T090000
END:STANDARD
BEGIN:DAYLIGHT
TZOFFSETFROM:-0800
TZOFFSETTO:-0700
TZNAME:PDT
DTSTART:20270314T100000
END:DAYLIGHT
BEGIN:STANDARD
TZOFFSETFROM:-0700
TZOFFSETTO:-0800
TZNAME:PST
DTSTART:20271107T090000
END:STANDARD
END:VTIMEZONE
BEGIN:VEVENT
DTSTART;TZID=America/Los_Angeles:20260215T080000
DTEND;TZID=America/Los_Angeles:20260215T170000
DTSTAMP:20260419T075707
CREATED:20251018T001150Z
LAST-MODIFIED:20251018T001150Z
UID:60277-1771142400-1771174800@ecww.org
SUMMARY:Bishop LaBelle's Visitation to Epiphany\, Seattle
DESCRIPTION:February 15 \nBishop LaBelle’s Visitation to Epiphany\, Seattle
URL:https://ecww.org/event/bishop-labelles-visitation-to-epiphany-seattle/
LOCATION:Epiphany\, Seattle\, 1805 38th Ave\, Seattle\, 98122
CATEGORIES:Bishop Visits
ORGANIZER;CN="Michael Seewer":MAILTO:mseewer@ecww.org
GEO:47.6180884;-122.2857812
X-APPLE-STRUCTURED-LOCATION;VALUE=URI;X-ADDRESS=Epiphany Seattle 1805 38th Ave Seattle 98122;X-APPLE-RADIUS=500;X-TITLE=1805 38th Ave:geo:-122.2857812,47.6180884
END:VEVENT
END:VCALENDAR