BEGIN:VCALENDAR
VERSION:2.0
PRODID:-//The Episcopal Diocese of Olympia - ECPv6.15.20//NONSGML v1.0//EN
CALSCALE:GREGORIAN
METHOD:PUBLISH
X-WR-CALNAME:The Episcopal Diocese of Olympia
X-ORIGINAL-URL:https://ecww.org
X-WR-CALDESC:Events for The Episcopal Diocese of Olympia
REFRESH-INTERVAL;VALUE=DURATION:PT1H
X-Robots-Tag:noindex
X-PUBLISHED-TTL:PT1H
BEGIN:VTIMEZONE
TZID:America/Los_Angeles
BEGIN:DAYLIGHT
TZOFFSETFROM:-0800
TZOFFSETTO:-0700
TZNAME:PDT
DTSTART:20250309T100000
END:DAYLIGHT
BEGIN:STANDARD
TZOFFSETFROM:-0700
TZOFFSETTO:-0800
TZNAME:PST
DTSTART:20251102T090000
END:STANDARD
BEGIN:DAYLIGHT
TZOFFSETFROM:-0800
TZOFFSETTO:-0700
TZNAME:PDT
DTSTART:20260308T100000
END:DAYLIGHT
BEGIN:STANDARD
TZOFFSETFROM:-0700
TZOFFSETTO:-0800
TZNAME:PST
DTSTART:20261101T090000
END:STANDARD
BEGIN:DAYLIGHT
TZOFFSETFROM:-0800
TZOFFSETTO:-0700
TZNAME:PDT
DTSTART:20270314T100000
END:DAYLIGHT
BEGIN:STANDARD
TZOFFSETFROM:-0700
TZOFFSETTO:-0800
TZNAME:PST
DTSTART:20271107T090000
END:STANDARD
END:VTIMEZONE
BEGIN:VEVENT
DTSTART;TZID=America/Los_Angeles:20260522T160000
DTEND;TZID=America/Los_Angeles:20260524T130000
DTSTAMP:20260425T164819
CREATED:20260421T225230Z
LAST-MODIFIED:20260421T225306Z
UID:69390-1779465600-1779627600@ecww.org
SUMMARY:Sacred Waters Work Weekend
DESCRIPTION:May 22 – 24 \nThere is so much work to do on these wonderful grounds\, we thought a full work weekend would be in order. Come for a great time of food\, work\, fellowship and fun! There are tasks for all levels of ability. The weekend begins with dinner on Friday evening and ends with lunch on Sunday. Folks can come for all or part of the weekend and are encouraged to sign up for what works for them. We are so grateful for your participation in this special place.
URL:https://ecww.org/event/sacred-waters-work-weekend/
LOCATION:Sacred Waters Center\, 7550 E. State Route 106\, Union\, WA\, 98592\, United States
CATEGORIES:Diocesan Events
ATTACH;FMTTYPE=image/jpeg:https://ecww.org/wp-content/uploads/2026/04/Magnolia-Blooms-scaled.jpeg
ORGANIZER;CN="Dan Oberg":MAILTO:director@saintandrewshouse.org
GEO:47.348531;-123.0603144
X-APPLE-STRUCTURED-LOCATION;VALUE=URI;X-ADDRESS=Sacred Waters Center 7550 E. State Route 106 Union WA 98592 United States;X-APPLE-RADIUS=500;X-TITLE=7550 E. State Route 106:geo:-123.0603144,47.348531
END:VEVENT
END:VCALENDAR