BEGIN:VCALENDAR
VERSION:2.0
PRODID:-//The Episcopal Diocese of Olympia - ECPv6.15.20//NONSGML v1.0//EN
CALSCALE:GREGORIAN
METHOD:PUBLISH
X-WR-CALNAME:The Episcopal Diocese of Olympia
X-ORIGINAL-URL:https://ecww.org
X-WR-CALDESC:Events for The Episcopal Diocese of Olympia
REFRESH-INTERVAL;VALUE=DURATION:PT1H
X-Robots-Tag:noindex
X-PUBLISHED-TTL:PT1H
BEGIN:VTIMEZONE
TZID:America/Los_Angeles
BEGIN:DAYLIGHT
TZOFFSETFROM:-0800
TZOFFSETTO:-0700
TZNAME:PDT
DTSTART:20250309T100000
END:DAYLIGHT
BEGIN:STANDARD
TZOFFSETFROM:-0700
TZOFFSETTO:-0800
TZNAME:PST
DTSTART:20251102T090000
END:STANDARD
BEGIN:DAYLIGHT
TZOFFSETFROM:-0800
TZOFFSETTO:-0700
TZNAME:PDT
DTSTART:20260308T100000
END:DAYLIGHT
BEGIN:STANDARD
TZOFFSETFROM:-0700
TZOFFSETTO:-0800
TZNAME:PST
DTSTART:20261101T090000
END:STANDARD
BEGIN:DAYLIGHT
TZOFFSETFROM:-0800
TZOFFSETTO:-0700
TZNAME:PDT
DTSTART:20270314T100000
END:DAYLIGHT
BEGIN:STANDARD
TZOFFSETFROM:-0700
TZOFFSETTO:-0800
TZNAME:PST
DTSTART:20271107T090000
END:STANDARD
END:VTIMEZONE
BEGIN:VEVENT
DTSTART;TZID=America/Los_Angeles:20260222T150000
DTEND;TZID=America/Los_Angeles:20260222T163000
DTSTAMP:20260422T041735
CREATED:20250806T231100Z
LAST-MODIFIED:20250806T231100Z
UID:58141-1771772400-1771777800@ecww.org
SUMMARY:Saint Mark's Music Series presents: Encountering the Divine
DESCRIPTION:February 22\, 3:00 – 4:30 pm \nTickets: $25 General\, $20 Student/Senior \nEncountering the Divine\nA Musical Expression of Faith\nKeith Kirchoff\, piano \nBoston-based pianist Keith Kirchoff presents a program exploring the richness of the Christian faith through eight musical expressions and denominations\, through works from Frescobaldi to Liszt\, Messiaen to the present day. \nOn the program:\nAve Maria by Franz Schubert\, arranged by Franz Liszt\nMessa della Domenica by Girolamo Frescobaldi\nLe baiser de l’Enfant-Jésus by Oilver Messiaen\nThree Spirituals by R. Nathaniel Dett\, Samuel Coleridge-Taylor\, and Margaret Bonds\nReflections on Christ of Saint John of the Cross by Steven Ricks
URL:https://ecww.org/event/saint-marks-music-series-presents-encountering-the-divine/
LOCATION:Saint Mark’s Cathedral\, Seattle\, 1245 10th AVE E.\, Seattle\, WA\, 98102\, United States
CATEGORIES:Cathedral Events,Congregation Event
ATTACH;FMTTYPE=image/jpeg:https://ecww.org/wp-content/uploads/2025/08/80912580_encountering_the_divine_25_26_eventbrite_banner.jpg
ORGANIZER;CN="Laura Loge":MAILTO:lloge@saintmarks.org
GEO:47.6319323;-122.3213125
X-APPLE-STRUCTURED-LOCATION;VALUE=URI;X-ADDRESS=Saint Mark’s Cathedral Seattle 1245 10th AVE E. Seattle WA 98102 United States;X-APPLE-RADIUS=500;X-TITLE=1245 10th AVE E.:geo:-122.3213125,47.6319323
END:VEVENT
END:VCALENDAR