BEGIN:VCALENDAR
VERSION:2.0
PRODID:-//The Episcopal Diocese of Olympia - ECPv6.15.20//NONSGML v1.0//EN
CALSCALE:GREGORIAN
METHOD:PUBLISH
X-WR-CALNAME:The Episcopal Diocese of Olympia
X-ORIGINAL-URL:https://ecww.org
X-WR-CALDESC:Events for The Episcopal Diocese of Olympia
REFRESH-INTERVAL;VALUE=DURATION:PT1H
X-Robots-Tag:noindex
X-PUBLISHED-TTL:PT1H
BEGIN:VTIMEZONE
TZID:America/Los_Angeles
BEGIN:DAYLIGHT
TZOFFSETFROM:-0800
TZOFFSETTO:-0700
TZNAME:PDT
DTSTART:20250309T100000
END:DAYLIGHT
BEGIN:STANDARD
TZOFFSETFROM:-0700
TZOFFSETTO:-0800
TZNAME:PST
DTSTART:20251102T090000
END:STANDARD
BEGIN:DAYLIGHT
TZOFFSETFROM:-0800
TZOFFSETTO:-0700
TZNAME:PDT
DTSTART:20260308T100000
END:DAYLIGHT
BEGIN:STANDARD
TZOFFSETFROM:-0700
TZOFFSETTO:-0800
TZNAME:PST
DTSTART:20261101T090000
END:STANDARD
BEGIN:DAYLIGHT
TZOFFSETFROM:-0800
TZOFFSETTO:-0700
TZNAME:PDT
DTSTART:20270314T100000
END:DAYLIGHT
BEGIN:STANDARD
TZOFFSETFROM:-0700
TZOFFSETTO:-0800
TZNAME:PST
DTSTART:20271107T090000
END:STANDARD
END:VTIMEZONE
BEGIN:VEVENT
DTSTART;TZID=America/Los_Angeles:20260322T140000
DTEND;TZID=America/Los_Angeles:20260322T153000
DTSTAMP:20260419T044738
CREATED:20260303T233042Z
LAST-MODIFIED:20260303T233042Z
UID:65652-1774188000-1774193400@ecww.org
SUMMARY:St. Thomas Music Guild Presents: Bach Birthday Bash
DESCRIPTION:March 22\, 2:00 pm \nOrganist Paul Meier will present an all Bach program to celebrate the maestro’s 341st birthday. This concert will be followed by a festive reception.
URL:https://ecww.org/event/st-thomas-music-guild-presents-bach-birthday-bash/
LOCATION:St. Thomas\, Medina\, 8398 NE 12th St\, Medina\, WA\, 98039\, United States
CATEGORIES:Congregation Event
ATTACH;FMTTYPE=image/png:https://ecww.org/wp-content/uploads/2026/03/45.png
ORGANIZER;CN="Ashley Graham-Wilcox":MAILTO:communications@stthomasmedina.org
GEO:47.6212096;-122.2291764
X-APPLE-STRUCTURED-LOCATION;VALUE=URI;X-ADDRESS=St. Thomas Medina 8398 NE 12th St Medina WA 98039 United States;X-APPLE-RADIUS=500;X-TITLE=8398 NE 12th St:geo:-122.2291764,47.6212096
END:VEVENT
END:VCALENDAR