BEGIN:VCALENDAR
VERSION:2.0
PRODID:-//The Episcopal Diocese of Olympia - ECPv6.15.20//NONSGML v1.0//EN
CALSCALE:GREGORIAN
METHOD:PUBLISH
X-WR-CALNAME:The Episcopal Diocese of Olympia
X-ORIGINAL-URL:https://ecww.org
X-WR-CALDESC:Events for The Episcopal Diocese of Olympia
REFRESH-INTERVAL;VALUE=DURATION:PT1H
X-Robots-Tag:noindex
X-PUBLISHED-TTL:PT1H
BEGIN:VTIMEZONE
TZID:America/Los_Angeles
BEGIN:DAYLIGHT
TZOFFSETFROM:-0800
TZOFFSETTO:-0700
TZNAME:PDT
DTSTART:20250309T100000
END:DAYLIGHT
BEGIN:STANDARD
TZOFFSETFROM:-0700
TZOFFSETTO:-0800
TZNAME:PST
DTSTART:20251102T090000
END:STANDARD
BEGIN:DAYLIGHT
TZOFFSETFROM:-0800
TZOFFSETTO:-0700
TZNAME:PDT
DTSTART:20260308T100000
END:DAYLIGHT
BEGIN:STANDARD
TZOFFSETFROM:-0700
TZOFFSETTO:-0800
TZNAME:PST
DTSTART:20261101T090000
END:STANDARD
BEGIN:DAYLIGHT
TZOFFSETFROM:-0800
TZOFFSETTO:-0700
TZNAME:PDT
DTSTART:20270314T100000
END:DAYLIGHT
BEGIN:STANDARD
TZOFFSETFROM:-0700
TZOFFSETTO:-0800
TZNAME:PST
DTSTART:20271107T090000
END:STANDARD
END:VTIMEZONE
BEGIN:VEVENT
DTSTART;VALUE=DATE:20260614
DTEND;VALUE=DATE:20260809
DTSTAMP:20260421T195125
CREATED:20260114T214452Z
LAST-MODIFIED:20260114T214452Z
UID:63598-1781395200-1786233599@ecww.org
SUMMARY:Summer Camp Registration Open!
DESCRIPTION:June 14-August 8 \nSpots are already filling up and early bird rates ($25 off) end February 28th. Come spend a week (or two! or three!) having all kinds of summer fun at Camp Huston. We have camp experiences for youth ranging from rising 1st graders to rising 10th graders. Visit www.huston.org/summer-camp for information on dates\, rates\, and our parent handbook.
URL:https://ecww.org/event/summer-camp-registration-open/
LOCATION:Camp Huston\, 14725 Ley Rd\, Gold Bar\, WA\, 98251\, United States
CATEGORIES:Diocesan Events,Youth Events
ATTACH;FMTTYPE=image/jpeg:https://ecww.org/wp-content/uploads/2026/01/2026-Summer-Camp-Flyer-3-1_page-0001-scaled.jpg
ORGANIZER;CN="Admin%2C Camp Huston%2C Gold Bar":MAILTO:info@huston.org
END:VEVENT
END:VCALENDAR