BEGIN:VCALENDAR
VERSION:2.0
PRODID:-//The Episcopal Diocese of Olympia - ECPv6.15.20//NONSGML v1.0//EN
CALSCALE:GREGORIAN
METHOD:PUBLISH
X-WR-CALNAME:The Episcopal Diocese of Olympia
X-ORIGINAL-URL:https://ecww.org
X-WR-CALDESC:Events for The Episcopal Diocese of Olympia
REFRESH-INTERVAL;VALUE=DURATION:PT1H
X-Robots-Tag:noindex
X-PUBLISHED-TTL:PT1H
BEGIN:VTIMEZONE
TZID:America/Los_Angeles
BEGIN:DAYLIGHT
TZOFFSETFROM:-0800
TZOFFSETTO:-0700
TZNAME:PDT
DTSTART:20250309T100000
END:DAYLIGHT
BEGIN:STANDARD
TZOFFSETFROM:-0700
TZOFFSETTO:-0800
TZNAME:PST
DTSTART:20251102T090000
END:STANDARD
BEGIN:DAYLIGHT
TZOFFSETFROM:-0800
TZOFFSETTO:-0700
TZNAME:PDT
DTSTART:20260308T100000
END:DAYLIGHT
BEGIN:STANDARD
TZOFFSETFROM:-0700
TZOFFSETTO:-0800
TZNAME:PST
DTSTART:20261101T090000
END:STANDARD
BEGIN:DAYLIGHT
TZOFFSETFROM:-0800
TZOFFSETTO:-0700
TZNAME:PDT
DTSTART:20270314T100000
END:DAYLIGHT
BEGIN:STANDARD
TZOFFSETFROM:-0700
TZOFFSETTO:-0800
TZNAME:PST
DTSTART:20271107T090000
END:STANDARD
END:VTIMEZONE
BEGIN:VEVENT
DTSTART;VALUE=DATE:20260425
DTEND;VALUE=DATE:20260426
DTSTAMP:20260419T155518
CREATED:20251018T002950Z
LAST-MODIFIED:20260318T001351Z
UID:10014004-1777075200-1777161599@ecww.org
SUMMARY:Cathedral Day 2026
DESCRIPTION:April 25 \nCathedral Day is a “family reunion” for Episcopalians from across western Washington. It’s a time for connecting across congregations and experiencing all your cathedral has to offer. For centuries\, cathedrals have served as Christian pilgrimage sites\, drawing people of faith into their orbit of wonder and awe. This year’s Cathedral Day celebrates the idea of pilgrimage\, with Saint Mark’s serving as your sacred destination. \nThis journey might feel especially resonant for those who seek to be confirmed\, received\, or reaffirmed by our bishop\, the Rt. Rev. Philip N. LaBelle\, during the Cathedral Day liturgy. As Jesus said to the first ones to follow him as people of The Way: Come and see…so are we invited to join on this journey together. \nPlease RSVP for all attendees in order to secure your free food truck lunch. Your voucher(s) will be available at the event. \nAll congregations attending Cathedral Day are invited to bring their banners to carry in the procession. \nSTREAM THE SERVICE OR VIEW THE RECORDING\nThe service will be streamed at saintmarks.org/livestream. After the service\, an archive recording will be available on the cathedral website.
URL:https://ecww.org/event/cathedral-day-2026/
LOCATION:Saint Mark’s Cathedral\, Seattle\, 1245 10th AVE E.\, Seattle\, WA\, 98102\, United States
CATEGORIES:Bishop Visits,Cathedral Events,Diocesan Events
ATTACH;FMTTYPE=image/jpeg:https://ecww.org/wp-content/uploads/2025/10/eventbrite_Cathedral-Day-2026_draft-3.jpg
ORGANIZER;CN="Michael Seewer":MAILTO:mseewer@ecww.org
GEO:47.6319323;-122.3213125
X-APPLE-STRUCTURED-LOCATION;VALUE=URI;X-ADDRESS=Saint Mark’s Cathedral Seattle 1245 10th AVE E. Seattle WA 98102 United States;X-APPLE-RADIUS=500;X-TITLE=1245 10th AVE E.:geo:-122.3213125,47.6319323
END:VEVENT
BEGIN:VEVENT
DTSTART;VALUE=DATE:20260503
DTEND;VALUE=DATE:20260504
DTSTAMP:20260419T155518
CREATED:20251018T001253Z
LAST-MODIFIED:20260305T193815Z
UID:10013995-1777766400-1777852799@ecww.org
SUMMARY:Bishop LaBelle's Visitation to St. David of Wales\, Shelton
DESCRIPTION:May 3 \nBishop LaBelle’s Visitation to St. David of Wales\, Shelton
URL:https://ecww.org/event/bishop-labelles-visitation-to-st-david-of-wales-shelton/
LOCATION:St. David of Wales\, Shelton\, 324 West Cedar St.\, Shelton\, 98584
CATEGORIES:Bishop Visits
ORGANIZER;CN="Michael Seewer":MAILTO:mseewer@ecww.org
GEO:47.2149249;-123.1027428
X-APPLE-STRUCTURED-LOCATION;VALUE=URI;X-ADDRESS=St. David of Wales Shelton 324 West Cedar St. Shelton 98584;X-APPLE-RADIUS=500;X-TITLE=324 West Cedar St.:geo:-123.1027428,47.2149249
END:VEVENT
BEGIN:VEVENT
DTSTART;VALUE=DATE:20260524
DTEND;VALUE=DATE:20260525
DTSTAMP:20260419T155518
CREATED:20251018T001950Z
LAST-MODIFIED:20251018T001950Z
UID:10014000-1779580800-1779667199@ecww.org
SUMMARY:Bishop LaBelle's Visitation to St. Andrew's\, Seattle
DESCRIPTION:May 24 \nBishop LaBelle’s Visitation to St. Andrew’s\, Seattle
URL:https://ecww.org/event/bishop-labelles-visitation-to-st-andrews-seattle/
LOCATION:St. Andrew’s\, Seattle\, 111 NE 80th St.\, Seattle\, WA\, 98115\, United States
CATEGORIES:Bishop Visits
ORGANIZER;CN="Michael Seewer":MAILTO:mseewer@ecww.org
GEO:47.6863674;-122.3278767
X-APPLE-STRUCTURED-LOCATION;VALUE=URI;X-ADDRESS=St. Andrew’s Seattle 111 NE 80th St. Seattle WA 98115 United States;X-APPLE-RADIUS=500;X-TITLE=111 NE 80th St.:geo:-122.3278767,47.6863674
END:VEVENT
BEGIN:VEVENT
DTSTART;VALUE=DATE:20260607
DTEND;VALUE=DATE:20260608
DTSTAMP:20260419T155518
CREATED:20251205T221653Z
LAST-MODIFIED:20251205T221653Z
UID:10014145-1780790400-1780876799@ecww.org
SUMMARY:Bishop LaBelle's Visitation to St. Thomas\, Medina
DESCRIPTION:June 7 \nBishop LaBelle’s Visitation to St. Thomas\, Medina
URL:https://ecww.org/event/bishop-labelles-visitation-to-st-thomas-medina/
LOCATION:St. Thomas\, Medina\, 8398 NE 12th St\, Medina\, WA\, 98039\, United States
CATEGORIES:Bishop Visits
GEO:47.6212096;-122.2291764
X-APPLE-STRUCTURED-LOCATION;VALUE=URI;X-ADDRESS=St. Thomas Medina 8398 NE 12th St Medina WA 98039 United States;X-APPLE-RADIUS=500;X-TITLE=8398 NE 12th St:geo:-122.2291764,47.6212096
END:VEVENT
BEGIN:VEVENT
DTSTART;VALUE=DATE:20260614
DTEND;VALUE=DATE:20260615
DTSTAMP:20260419T155518
CREATED:20251205T221806Z
LAST-MODIFIED:20251205T221806Z
UID:10014146-1781395200-1781481599@ecww.org
SUMMARY:Bishop LaBelle's Visitation to St. Columba\, Kent
DESCRIPTION:June 14 \nBishop LaBelle’s Visitation to St. Columba\, Kent
URL:https://ecww.org/event/bishop-labelles-visitation-to-st-columba-kent/
LOCATION:St. Columba’s\, Kent\, 26715 Military Rd S\, Kent\, WA\, 98032\, United States
CATEGORIES:Bishop Visits
GEO:47.3620193;-122.2928481
X-APPLE-STRUCTURED-LOCATION;VALUE=URI;X-ADDRESS=St. Columba’s Kent 26715 Military Rd S Kent WA 98032 United States;X-APPLE-RADIUS=500;X-TITLE=26715 Military Rd S:geo:-122.2928481,47.3620193
END:VEVENT
BEGIN:VEVENT
DTSTART;VALUE=DATE:20260621
DTEND;VALUE=DATE:20260622
DTSTAMP:20260419T155518
CREATED:20251205T221915Z
LAST-MODIFIED:20251205T222054Z
UID:10014147-1782000000-1782086399@ecww.org
SUMMARY:Bishop LaBelle's Visitation to St. John's-San Juan\, Olympia
DESCRIPTION:June 21 \nBishop LaBelle’s Visitation to St. John’s-San Juan\, Olympia
URL:https://ecww.org/event/bishop-labelles-visitation-to-st-johns-san-juan-olympia/
LOCATION:St. John’s | San Juan\, Olympia\, 114 20th Ave SE\, Olympia\, WA\, 98501\, United States
CATEGORIES:Bishop Visits
GEO:47.0311912;-122.9002038
X-APPLE-STRUCTURED-LOCATION;VALUE=URI;X-ADDRESS=St. John’s | San Juan Olympia 114 20th Ave SE Olympia WA 98501 United States;X-APPLE-RADIUS=500;X-TITLE=114 20th Ave SE:geo:-122.9002038,47.0311912
END:VEVENT
BEGIN:VEVENT
DTSTART;VALUE=DATE:20260628
DTEND;VALUE=DATE:20260629
DTSTAMP:20260419T155518
CREATED:20251205T222023Z
LAST-MODIFIED:20251205T222416Z
UID:10014148-1782604800-1782691199@ecww.org
SUMMARY:Bishop LaBelle's Visitation to St. Peter's\, Seattle
DESCRIPTION:June 28 \nBishop LaBelle’s Visitation to St. Peter’s\, Seattle
URL:https://ecww.org/event/bishop-labelles-visitation-to-st-peters-seattle/
LOCATION:St. Peter’s\, Seattle\, 1610 S. King St\, Seattle\, 98144
CATEGORIES:Bishop Visits
GEO:47.5986027;-122.3107555
X-APPLE-STRUCTURED-LOCATION;VALUE=URI;X-ADDRESS=St. Peter’s Seattle 1610 S. King St Seattle 98144;X-APPLE-RADIUS=500;X-TITLE=1610 S. King St:geo:-122.3107555,47.5986027
END:VEVENT
BEGIN:VEVENT
DTSTART;VALUE=DATE:20260712
DTEND;VALUE=DATE:20260713
DTSTAMP:20260419T155518
CREATED:20251205T222318Z
LAST-MODIFIED:20251205T222318Z
UID:10014150-1783814400-1783900799@ecww.org
SUMMARY:Bishop LaBelle's Visitation to All Saints\, Tacoma
DESCRIPTION:July 12 \nBishop LaBelle’s Visitation to All Saints\, Tacoma
URL:https://ecww.org/event/bishop-labelles-visitation-to-all-saints-tacoma/
LOCATION:All Saints\, Tacoma\, 205 96th St E\, Tacoma\, WA\, 98445\, United States
CATEGORIES:Bishop Visits
GEO:47.1703575;-122.4282854
X-APPLE-STRUCTURED-LOCATION;VALUE=URI;X-ADDRESS=All Saints Tacoma 205 96th St E Tacoma WA 98445 United States;X-APPLE-RADIUS=500;X-TITLE=205 96th St E:geo:-122.4282854,47.1703575
END:VEVENT
BEGIN:VEVENT
DTSTART;VALUE=DATE:20260719
DTEND;VALUE=DATE:20260720
DTSTAMP:20260419T155518
CREATED:20251205T222539Z
LAST-MODIFIED:20251205T222539Z
UID:10014151-1784419200-1784505599@ecww.org
SUMMARY:Bishop LaBelle's Visitation to St. Luke's\, Renton
DESCRIPTION:July 19 \nBishop LaBelle’s Visitation to St. Luke’s\, Renton
URL:https://ecww.org/event/bishop-labelles-visitation-to-st-lukes-renton/
LOCATION:St. Luke’s\, Renton\, 99 Wells Ave S\, Renton\, WA\, 98057\, United States
CATEGORIES:Bishop Visits
GEO:47.4830566;-122.2056956
X-APPLE-STRUCTURED-LOCATION;VALUE=URI;X-ADDRESS=St. Luke’s Renton 99 Wells Ave S Renton WA 98057 United States;X-APPLE-RADIUS=500;X-TITLE=99 Wells Ave S:geo:-122.2056956,47.4830566
END:VEVENT
BEGIN:VEVENT
DTSTART;VALUE=DATE:20260726
DTEND;VALUE=DATE:20260727
DTSTAMP:20260419T155518
CREATED:20251205T222657Z
LAST-MODIFIED:20251205T223036Z
UID:10014152-1785024000-1785110399@ecww.org
SUMMARY:Bishop LaBelle's Visitation to St. Anne's\, Washougal
DESCRIPTION:July 26 \nBishop LaBelle’s Visitation to St. Anne’s\, Washougal
URL:https://ecww.org/event/bishop-labelles-visitation-to-st-annes-washougal/
LOCATION:St. Anne’s\, Washougal\, 2350 Main St.\, Washougal\, WA\, 98671\, United States
CATEGORIES:Bishop Visits
GEO:45.578096;-122.347108
X-APPLE-STRUCTURED-LOCATION;VALUE=URI;X-ADDRESS=St. Anne’s Washougal 2350 Main St. Washougal WA 98671 United States;X-APPLE-RADIUS=500;X-TITLE=2350 Main St.:geo:-122.347108,45.578096
END:VEVENT
BEGIN:VEVENT
DTSTART;VALUE=DATE:20260802
DTEND;VALUE=DATE:20260803
DTSTAMP:20260419T155518
CREATED:20251205T222210Z
LAST-MODIFIED:20260305T194528Z
UID:10014149-1785628800-1785715199@ecww.org
SUMMARY:Bishop LaBelle's Visitation to St. Augustine's in-the-Woods\, Freeland
DESCRIPTION:August 2 \nBishop LaBelle’s Visitation to St. Augustine’s in-the-Woods\, Freeland
URL:https://ecww.org/event/bishop-labelles-visitation-to-st-augustines-in-the-woods-freeland/
LOCATION:St. Augustine’s In-the-Woods\, Freeland\, 5217 S. Honeymoon Bay Road\, Freeland\, WA\, 98249\, United States
CATEGORIES:Bishop Visits
GEO:48.0216214;-122.5432368
X-APPLE-STRUCTURED-LOCATION;VALUE=URI;X-ADDRESS=St. Augustine’s In-the-Woods Freeland 5217 S. Honeymoon Bay Road Freeland WA 98249 United States;X-APPLE-RADIUS=500;X-TITLE=5217 S. Honeymoon Bay Road:geo:-122.5432368,48.0216214
END:VEVENT
BEGIN:VEVENT
DTSTART;VALUE=DATE:20260802
DTEND;VALUE=DATE:20260803
DTSTAMP:20260419T155518
CREATED:20251205T222805Z
LAST-MODIFIED:20251205T222805Z
UID:10014153-1785628800-1785715199@ecww.org
SUMMARY:Bishop LaBelle's Visitation to St. Paul's\, Mount Vernon
DESCRIPTION:August 2 \nBishop LaBelle’s Visitation to St. Paul’s\, Mount Vernon
URL:https://ecww.org/event/bishop-labelles-visitation-to-st-pauls-mount-vernon/
LOCATION:St. Paul’s\, Mount Vernon\, 415 S 18th St.\, Mount Vernon\, WA\, 98274\, United States
CATEGORIES:Bishop Visits
GEO:48.4179111;-122.3194147
X-APPLE-STRUCTURED-LOCATION;VALUE=URI;X-ADDRESS=St. Paul’s Mount Vernon 415 S 18th St. Mount Vernon WA 98274 United States;X-APPLE-RADIUS=500;X-TITLE=415 S 18th St.:geo:-122.3194147,48.4179111
END:VEVENT
BEGIN:VEVENT
DTSTART;VALUE=DATE:20260809
DTEND;VALUE=DATE:20260810
DTSTAMP:20260419T155518
CREATED:20251018T001832Z
LAST-MODIFIED:20260305T194416Z
UID:10013999-1786233600-1786319999@ecww.org
SUMMARY:Bishop LaBelle's Visitation to Emmanuel\, Mercer Island
DESCRIPTION:August 9 \nBishop LaBelle’s Visitation to Emmanuel\, Mercer Island
URL:https://ecww.org/event/bishop-labelles-visitation-to-emmanuel-mercer-island/
LOCATION:Emmanuel\, Mercer Island\, 4400 86th Ave. SE\, Mercer Island\, 98040
CATEGORIES:Bishop Visits
ORGANIZER;CN="Michael Seewer":MAILTO:mseewer@ecww.org
GEO:47.5666618;-122.2236259
X-APPLE-STRUCTURED-LOCATION;VALUE=URI;X-ADDRESS=Emmanuel Mercer Island 4400 86th Ave. SE Mercer Island 98040;X-APPLE-RADIUS=500;X-TITLE=4400 86th Ave. SE:geo:-122.2236259,47.5666618
END:VEVENT
BEGIN:VEVENT
DTSTART;VALUE=DATE:20260913
DTEND;VALUE=DATE:20260914
DTSTAMP:20260419T155518
CREATED:20251205T223215Z
LAST-MODIFIED:20251205T223215Z
UID:10014154-1789257600-1789343999@ecww.org
SUMMARY:Bishop LaBelle's Visitation to St. Martin/St. Francis\, Rockport
DESCRIPTION:September 13 \nBishop LaBelle’s Visitation to St. Martin/St. Francis\, Rockport
URL:https://ecww.org/event/bishop-labelles-visitation-to-st-martin-st-francis-rockport/
LOCATION:St. Martin & St. Francis\, Rockport\, 55223 Conrad Rd.\, Rockport\, WA\, 98283\, United States
CATEGORIES:Bishop Visits
GEO:48.4950004;-121.54419
X-APPLE-STRUCTURED-LOCATION;VALUE=URI;X-ADDRESS=St. Martin & St. Francis Rockport 55223 Conrad Rd. Rockport WA 98283 United States;X-APPLE-RADIUS=500;X-TITLE=55223 Conrad Rd.:geo:-121.54419,48.4950004
END:VEVENT
BEGIN:VEVENT
DTSTART;VALUE=DATE:20260920
DTEND;VALUE=DATE:20260921
DTSTAMP:20260419T155518
CREATED:20251205T223324Z
LAST-MODIFIED:20251205T223324Z
UID:10014155-1789862400-1789948799@ecww.org
SUMMARY:Bishop LaBelle's Visitation to St. John the Baptist\, Seattle
DESCRIPTION:September 20 \nBishop LaBelle’s Visitation to St. John the Baptist\, Seattle
URL:https://ecww.org/event/bishop-labelles-visitation-to-st-john-the-baptist-seattle/
LOCATION:St. John the Baptist\, Seattle\, 3050 California Ave SW\, Seattle\, 98116
CATEGORIES:Bishop Visits
GEO:47.5759021;-122.3861784
X-APPLE-STRUCTURED-LOCATION;VALUE=URI;X-ADDRESS=St. John the Baptist Seattle 3050 California Ave SW Seattle 98116;X-APPLE-RADIUS=500;X-TITLE=3050 California Ave SW:geo:-122.3861784,47.5759021
END:VEVENT
BEGIN:VEVENT
DTSTART;VALUE=DATE:20261004
DTEND;VALUE=DATE:20261005
DTSTAMP:20260419T155518
CREATED:20251205T223429Z
LAST-MODIFIED:20251205T223429Z
UID:10014156-1791072000-1791158399@ecww.org
SUMMARY:Bishop LaBelle's Visitation to Trinity\, Everett
DESCRIPTION:October 4 \nBishop LaBelle’s Visitation to Trinity\, Everett
URL:https://ecww.org/event/bishop-labelles-visitation-to-trinity-everett/
LOCATION:Trinity\, Everett\, 2301 Hoyt Ave.\, Everett\, WA\, 98201\, United States
CATEGORIES:Bishop Visits
GEO:47.9867967;-122.2095699
X-APPLE-STRUCTURED-LOCATION;VALUE=URI;X-ADDRESS=Trinity Everett 2301 Hoyt Ave. Everett WA 98201 United States;X-APPLE-RADIUS=500;X-TITLE=2301 Hoyt Ave.:geo:-122.2095699,47.9867967
END:VEVENT
BEGIN:VEVENT
DTSTART;VALUE=DATE:20261011
DTEND;VALUE=DATE:20261012
DTSTAMP:20260419T155518
CREATED:20251205T223531Z
LAST-MODIFIED:20251205T223531Z
UID:10014157-1791676800-1791763199@ecww.org
SUMMARY:Bishop LaBelle's Visitation to Holy Spirit\, Vashon
DESCRIPTION:October 11 \nBishop LaBelle’s Visitation to Holy Spirit\, Vashon
URL:https://ecww.org/event/bishop-labelles-visitation-to-holy-spirit-vashon/
LOCATION:Holy Spirit\, Vashon Island\, 15420 Vashon Hwy SW\, Vashon\, WA\, 98070\, United States
CATEGORIES:Bishop Visits
GEO:47.4667657;-122.4598553
X-APPLE-STRUCTURED-LOCATION;VALUE=URI;X-ADDRESS=Holy Spirit Vashon Island 15420 Vashon Hwy SW Vashon WA 98070 United States;X-APPLE-RADIUS=500;X-TITLE=15420 Vashon Hwy SW:geo:-122.4598553,47.4667657
END:VEVENT
BEGIN:VEVENT
DTSTART;TZID=America/Los_Angeles:20261018T080000
DTEND;TZID=America/Los_Angeles:20261018T170000
DTSTAMP:20260419T155518
CREATED:20251205T223638Z
LAST-MODIFIED:20251205T223638Z
UID:10014158-1792310400-1792342800@ecww.org
SUMMARY:Bishop LaBelle's Visitation to St. Luke's Memorial\, Tacoma
DESCRIPTION:October 18 \nBishop LaBelle’s Visitation to St. Luke’s Memorial\, Tacoma
URL:https://ecww.org/event/bishop-labelles-visitation-to-st-lukes-memorial-tacoma/
LOCATION:St. Luke’s Memorial\, Tacoma\, 3615 N Gove St.\, Tacoma\, WA\, 98407\, United States
CATEGORIES:Bishop Visits
GEO:47.2807173;-122.4994698
X-APPLE-STRUCTURED-LOCATION;VALUE=URI;X-ADDRESS=St. Luke’s Memorial Tacoma 3615 N Gove St. Tacoma WA 98407 United States;X-APPLE-RADIUS=500;X-TITLE=3615 N Gove St.:geo:-122.4994698,47.2807173
END:VEVENT
BEGIN:VEVENT
DTSTART;VALUE=DATE:20261101
DTEND;VALUE=DATE:20261102
DTSTAMP:20260419T155518
CREATED:20251205T223751Z
LAST-MODIFIED:20251205T223751Z
UID:10014159-1793491200-1793577599@ecww.org
SUMMARY:Bishop LaBelle's Visitation to St. Michael & All Angels\, Issaquah
DESCRIPTION:November 1 \nBishop LaBelle’s Visitation to St. Michael & All Angels\, Issaquah
URL:https://ecww.org/event/bishop-labelles-visitation-to-st-michael-all-angels-issaquah/
LOCATION:St. Michael & All Angels\, Issaquah\, 325 SE Darst St\, Issaquah\, 98027
CATEGORIES:Bishop Visits
GEO:47.525987;-122.0313799
X-APPLE-STRUCTURED-LOCATION;VALUE=URI;X-ADDRESS=St. Michael & All Angels Issaquah 325 SE Darst St Issaquah 98027;X-APPLE-RADIUS=500;X-TITLE=325 SE Darst St:geo:-122.0313799,47.525987
END:VEVENT
BEGIN:VEVENT
DTSTART;VALUE=DATE:20261122
DTEND;VALUE=DATE:20261123
DTSTAMP:20260419T155518
CREATED:20251205T223903Z
LAST-MODIFIED:20251205T223903Z
UID:10014160-1795305600-1795391999@ecww.org
SUMMARY:Bishop LaBelle's Visitation to St. Andrew's\, Tacoma
DESCRIPTION:November 22 \nBishop LaBelle’s Visitation to St. Andrew’s\, Tacoma
URL:https://ecww.org/event/bishop-labelles-visitation-to-st-andrews-tacoma/
LOCATION:St. Andrew’s\, Tacoma\, 7410 S. 12th St.\, Tacoma\, 98465
CATEGORIES:Bishop Visits
GEO:47.2496531;-122.5363757
X-APPLE-STRUCTURED-LOCATION;VALUE=URI;X-ADDRESS=St. Andrew’s Tacoma 7410 S. 12th St. Tacoma 98465;X-APPLE-RADIUS=500;X-TITLE=7410 S. 12th St.:geo:-122.5363757,47.2496531
END:VEVENT
END:VCALENDAR