BEGIN:VCALENDAR
VERSION:2.0
PRODID:-//The Episcopal Diocese of Olympia - ECPv6.15.20//NONSGML v1.0//EN
CALSCALE:GREGORIAN
METHOD:PUBLISH
X-ORIGINAL-URL:https://ecww.org
X-WR-CALDESC:Events for The Episcopal Diocese of Olympia
REFRESH-INTERVAL;VALUE=DURATION:PT1H
X-Robots-Tag:noindex
X-PUBLISHED-TTL:PT1H
BEGIN:VTIMEZONE
TZID:America/Los_Angeles
BEGIN:DAYLIGHT
TZOFFSETFROM:-0800
TZOFFSETTO:-0700
TZNAME:PDT
DTSTART:20250309T100000
END:DAYLIGHT
BEGIN:STANDARD
TZOFFSETFROM:-0700
TZOFFSETTO:-0800
TZNAME:PST
DTSTART:20251102T090000
END:STANDARD
BEGIN:DAYLIGHT
TZOFFSETFROM:-0800
TZOFFSETTO:-0700
TZNAME:PDT
DTSTART:20260308T100000
END:DAYLIGHT
BEGIN:STANDARD
TZOFFSETFROM:-0700
TZOFFSETTO:-0800
TZNAME:PST
DTSTART:20261101T090000
END:STANDARD
BEGIN:DAYLIGHT
TZOFFSETFROM:-0800
TZOFFSETTO:-0700
TZNAME:PDT
DTSTART:20270314T100000
END:DAYLIGHT
BEGIN:STANDARD
TZOFFSETFROM:-0700
TZOFFSETTO:-0800
TZNAME:PST
DTSTART:20271107T090000
END:STANDARD
END:VTIMEZONE
BEGIN:VEVENT
DTSTART;TZID=America/Los_Angeles:20260314T200000
DTEND;TZID=America/Los_Angeles:20260314T220000
DTSTAMP:20260422T163411
CREATED:20260202T171455Z
LAST-MODIFIED:20260202T171455Z
UID:10014248-1773518400-1773525600@ecww.org
SUMMARY:Baroque Brilliance: Bach & Handel
DESCRIPTION:March 14\, 8:00 pm \n  \nOn March 14\, the Seattle Choral Company presents Baroque Brilliance\, an exhilarating evening of sacred music by two giants of the Baroque era: Johann Sebastian Bach and George Frideric Handel. \nThis concert pairs two remarkable works that reveal the composers’ contrasting yet complementary voices. Bach’s Mass in G minor\, BWV 235\, written in Leipzig in the 1730s\, is a deeply reflective work of spiritual beauty. Drawing on earlier cantatas\, Bach shapes intricate counterpoint and luminous choral writing into a refined and intimate expression of faith. \nIn striking contrast\, Handel’s Dixit Dominus\, HWV 232\, composed in Rome in 1707\, brims with youthful energy and dramatic flair. This virtuosic setting of Psalm 110 showcases Handel’s early mastery of the Italian Baroque style\, bursting with bold rhythms and exuberant choral writing. \nTogether\, these masterworks offer a vivid portrait of Baroque sacred music at its most brilliant—intimate and majestic\, disciplined and dazzling. \nAdding more artistry to this concert event is an exceptional roster of guest artists: sopranos Natalie Ingrisano and Maria Männistö\, countertenor José Luis Muñoz\, tenor Stephen Rumph\, baritone Charles Robert Stephens\, and the acclaimed North Corner Chamber Orchestra.
URL:https://ecww.org/event/baroque-brilliance-bach-handel/
LOCATION:Saint Mark’s Cathedral\, Seattle\, 1245 10th AVE E.\, Seattle\, WA\, 98102\, United States
CATEGORIES:Cathedral Events,Congregation Event
ATTACH;FMTTYPE=image/jpeg:https://ecww.org/wp-content/uploads/2026/01/March-Concert-191-KB.jpg
ORGANIZER;CN="Freddie Coleman":MAILTO:freddie@seattlechoralcompany.org
GEO:47.6319323;-122.3213125
X-APPLE-STRUCTURED-LOCATION;VALUE=URI;X-ADDRESS=Saint Mark’s Cathedral Seattle 1245 10th AVE E. Seattle WA 98102 United States;X-APPLE-RADIUS=500;X-TITLE=1245 10th AVE E.:geo:-122.3213125,47.6319323
END:VEVENT
END:VCALENDAR