BEGIN:VCALENDAR
VERSION:2.0
PRODID:-//The Episcopal Diocese of Olympia - ECPv6.15.20//NONSGML v1.0//EN
CALSCALE:GREGORIAN
METHOD:PUBLISH
X-WR-CALNAME:The Episcopal Diocese of Olympia
X-ORIGINAL-URL:https://ecww.org
X-WR-CALDESC:Events for The Episcopal Diocese of Olympia
REFRESH-INTERVAL;VALUE=DURATION:PT1H
X-Robots-Tag:noindex
X-PUBLISHED-TTL:PT1H
BEGIN:VTIMEZONE
TZID:America/Los_Angeles
BEGIN:DAYLIGHT
TZOFFSETFROM:-0800
TZOFFSETTO:-0700
TZNAME:PDT
DTSTART:20250309T100000
END:DAYLIGHT
BEGIN:STANDARD
TZOFFSETFROM:-0700
TZOFFSETTO:-0800
TZNAME:PST
DTSTART:20251102T090000
END:STANDARD
BEGIN:DAYLIGHT
TZOFFSETFROM:-0800
TZOFFSETTO:-0700
TZNAME:PDT
DTSTART:20260308T100000
END:DAYLIGHT
BEGIN:STANDARD
TZOFFSETFROM:-0700
TZOFFSETTO:-0800
TZNAME:PST
DTSTART:20261101T090000
END:STANDARD
BEGIN:DAYLIGHT
TZOFFSETFROM:-0800
TZOFFSETTO:-0700
TZNAME:PDT
DTSTART:20270314T100000
END:DAYLIGHT
BEGIN:STANDARD
TZOFFSETFROM:-0700
TZOFFSETTO:-0800
TZNAME:PST
DTSTART:20271107T090000
END:STANDARD
END:VTIMEZONE
BEGIN:VEVENT
DTSTART;VALUE=DATE:20260114
DTEND;VALUE=DATE:20260602
DTSTAMP:20260423T165434
CREATED:20260114T214650Z
LAST-MODIFIED:20260114T235912Z
UID:10014231-1768348800-1780358399@ecww.org
SUMMARY:Summer Camp Staff Applications Now Open!
DESCRIPTION:January 14-June 1 \nLooking to spend a summer doing transformational work? Apply to work at camp today! \nWe are hiring Discovery Group Leaders\, Resident Staff Counselors\, and Session Staff Counselors.\nVisit www.huston.org/apply-for-summer-camp-staff to find job descriptions and the link to apply.
URL:https://ecww.org/event/summer-camp-staff-applications-now-open/
LOCATION:Camp Huston\, 14725 Ley Rd\, Gold Bar\, WA\, 98251\, United States
CATEGORIES:Diocesan Events,Young Adult
ATTACH;FMTTYPE=image/jpeg:https://ecww.org/wp-content/uploads/2026/01/IMG_5575-2-2-scaled.jpg
ORGANIZER;CN="Rachel Gilliam":MAILTO:rachel@huston.org
END:VEVENT
END:VCALENDAR