BEGIN:VCALENDAR
VERSION:2.0
PRODID:-//The Episcopal Diocese of Olympia - ECPv6.15.20//NONSGML v1.0//EN
CALSCALE:GREGORIAN
METHOD:PUBLISH
X-ORIGINAL-URL:https://ecww.org
X-WR-CALDESC:Events for The Episcopal Diocese of Olympia
REFRESH-INTERVAL;VALUE=DURATION:PT1H
X-Robots-Tag:noindex
X-PUBLISHED-TTL:PT1H
BEGIN:VTIMEZONE
TZID:America/Los_Angeles
BEGIN:DAYLIGHT
TZOFFSETFROM:-0800
TZOFFSETTO:-0700
TZNAME:PDT
DTSTART:20250309T100000
END:DAYLIGHT
BEGIN:STANDARD
TZOFFSETFROM:-0700
TZOFFSETTO:-0800
TZNAME:PST
DTSTART:20251102T090000
END:STANDARD
BEGIN:DAYLIGHT
TZOFFSETFROM:-0800
TZOFFSETTO:-0700
TZNAME:PDT
DTSTART:20260308T100000
END:DAYLIGHT
BEGIN:STANDARD
TZOFFSETFROM:-0700
TZOFFSETTO:-0800
TZNAME:PST
DTSTART:20261101T090000
END:STANDARD
BEGIN:DAYLIGHT
TZOFFSETFROM:-0800
TZOFFSETTO:-0700
TZNAME:PDT
DTSTART:20270314T100000
END:DAYLIGHT
BEGIN:STANDARD
TZOFFSETFROM:-0700
TZOFFSETTO:-0800
TZNAME:PST
DTSTART:20271107T090000
END:STANDARD
END:VTIMEZONE
BEGIN:VEVENT
DTSTART;TZID=America/Los_Angeles:20260516T100000
DTEND;TZID=America/Los_Angeles:20260516T150000
DTSTAMP:20260422T012154
CREATED:20260213T211856Z
LAST-MODIFIED:20260402T185656Z
UID:10014268-1778925600-1778943600@ecww.org
SUMMARY:Writing for Worship
DESCRIPTION:May 16\, 10:00 am – 3:00 pm \nFor anyone who writes a text for worship: intercessors\, preachers\, leaders of prayer\, and those who might want to write for worship. In this workshop\, we welcome Dr. Gail Ramshaw\, distinguished expert in liturgical language\, who will lead participants in a discussion of guidelines that inform writing for worship and will invite participants to write during the workshop. This is a wonderful opportunity to consider how the words we use in worship shape the faith of the assembly for its life in the world. \nSeating is limited. To register\, follow the link below. \nRegistration fee: $25 includes morning coffee\, vegetarian lunch\, and all materials – to be paid with check or cash at St. Paul’s Church\, Seattle\, on May 16. \nLimited parking is available in the parish parking lot\, as well as parking on the street\, the paid parking lot at Mercer and Warren Ave North\, and at the Mercer Street Garage (across from McCaw Hall) between Third Avenue North and Fourth Avenue North. \nThis workshop is sponsored by Bishop Phil LaBelle and the Commission on Liturgy of the Diocese of Olympia. Questions? Send an email to Fr Samuel Torvend at torvensa@plu.edu. Click here for more on Gail Ramshaw.
URL:https://ecww.org/event/writing-for-worship/
LOCATION:St. Paul’s Church\, Seattle\, 15 Roy St.\, Seattle\, 98109
CATEGORIES:Diocesan Events
ATTACH;FMTTYPE=image/webp:https://ecww.org/wp-content/uploads/2026/02/Screenshot2026-04-01120101.png.webp
ORGANIZER;CN="The Rev. Samuel Torvend":MAILTO:torvensa@plu.edu
GEO:47.6251659;-122.3559085
X-APPLE-STRUCTURED-LOCATION;VALUE=URI;X-ADDRESS=St. Paul’s Church Seattle 15 Roy St. Seattle 98109;X-APPLE-RADIUS=500;X-TITLE=15 Roy St.:geo:-122.3559085,47.6251659
END:VEVENT
END:VCALENDAR