BEGIN:VCALENDAR
VERSION:2.0
PRODID:-//The Episcopal Diocese of Olympia - ECPv6.15.20//NONSGML v1.0//EN
CALSCALE:GREGORIAN
METHOD:PUBLISH
X-ORIGINAL-URL:https://ecww.org
X-WR-CALDESC:Events for The Episcopal Diocese of Olympia
REFRESH-INTERVAL;VALUE=DURATION:PT1H
X-Robots-Tag:noindex
X-PUBLISHED-TTL:PT1H
BEGIN:VTIMEZONE
TZID:America/Los_Angeles
BEGIN:DAYLIGHT
TZOFFSETFROM:-0800
TZOFFSETTO:-0700
TZNAME:PDT
DTSTART:20250309T100000
END:DAYLIGHT
BEGIN:STANDARD
TZOFFSETFROM:-0700
TZOFFSETTO:-0800
TZNAME:PST
DTSTART:20251102T090000
END:STANDARD
BEGIN:DAYLIGHT
TZOFFSETFROM:-0800
TZOFFSETTO:-0700
TZNAME:PDT
DTSTART:20260308T100000
END:DAYLIGHT
BEGIN:STANDARD
TZOFFSETFROM:-0700
TZOFFSETTO:-0800
TZNAME:PST
DTSTART:20261101T090000
END:STANDARD
BEGIN:DAYLIGHT
TZOFFSETFROM:-0800
TZOFFSETTO:-0700
TZNAME:PDT
DTSTART:20270314T100000
END:DAYLIGHT
BEGIN:STANDARD
TZOFFSETFROM:-0700
TZOFFSETTO:-0800
TZNAME:PST
DTSTART:20271107T090000
END:STANDARD
END:VTIMEZONE
BEGIN:VEVENT
DTSTART;VALUE=DATE:20260728
DTEND;VALUE=DATE:20260801
DTSTAMP:20260422T144625
CREATED:20251124T202749Z
LAST-MODIFIED:20251124T221527Z
UID:10014127-1785196800-1785542399@ecww.org
SUMMARY:Province VIII Youth Pilgrimage: 2026
DESCRIPTION:July 28-31 \n$350 Registration \nCome along for a youth pilgrimage to the Diocese of Hawai’i as we hear their stories of community and immigration history.\nNext summer\, July 28-31\, high school youth (ages 15-18) will have an opportunity to travel to Honolulu\, Hawai’i for the Province VIII Youth Pilgrimage. We will be gathering with students from Hawai’i\, Taiwan\, Arizona\, Navajoland\, Utah\, Oregon\, Washington\, California\, Nevada\, and Idaho. As part of a three-day pilgrimage\, we will be exploring stories of community through two different lenses\, the indigenous community of Hawai’i\, and their history of immigration. And we will also bring immigration stories from the Diocese of Olympia. \nOur guiding scripture is 1 Corinthians 13:12. \n“For now we see only a reflection\, as in a mirror\, but then we will see face to face. Now I know only in part; then I will know fully\, even as I have been fully known.” \nIt will shape the way we prepare for the pilgrimage\, journey to Hawai’i\, partner with the other pilgrims we meet\, and return home. \nPlease visit the registration link for more details and information about the pilgrimage: https://ProvinceVIIIGathering.eventbrite.com
URL:https://ecww.org/event/province-viii-youth-pilgrimage-2026/
LOCATION:Cathedral of St. Andrew’s\, Honolulu\, HI\, 229 Queen Emma Square\, Honolulu\, WA\, 96813\, United States
CATEGORIES:Pilgrimages,Youth Events
ATTACH;FMTTYPE=image/jpeg:https://ecww.org/wp-content/uploads/2025/11/Province-VIII-Youth-Event.jpg
ORGANIZER;CN="Naomi Cavaliere":MAILTO:nwoodrum@ecww.org
GEO:21.3098138;-157.8575374
X-APPLE-STRUCTURED-LOCATION;VALUE=URI;X-ADDRESS=Cathedral of St. Andrew’s Honolulu HI 229 Queen Emma Square Honolulu WA 96813 United States;X-APPLE-RADIUS=500;X-TITLE=229 Queen Emma Square:geo:-157.8575374,21.3098138
END:VEVENT
END:VCALENDAR