BEGIN:VCALENDAR
VERSION:2.0
PRODID:-//The Episcopal Diocese of Olympia - ECPv6.15.20//NONSGML v1.0//EN
CALSCALE:GREGORIAN
METHOD:PUBLISH
X-WR-CALNAME:The Episcopal Diocese of Olympia
X-ORIGINAL-URL:https://ecww.org
X-WR-CALDESC:Events for The Episcopal Diocese of Olympia
REFRESH-INTERVAL;VALUE=DURATION:PT1H
X-Robots-Tag:noindex
X-PUBLISHED-TTL:PT1H
BEGIN:VTIMEZONE
TZID:America/Los_Angeles
BEGIN:DAYLIGHT
TZOFFSETFROM:-0800
TZOFFSETTO:-0700
TZNAME:PDT
DTSTART:20250309T100000
END:DAYLIGHT
BEGIN:STANDARD
TZOFFSETFROM:-0700
TZOFFSETTO:-0800
TZNAME:PST
DTSTART:20251102T090000
END:STANDARD
BEGIN:DAYLIGHT
TZOFFSETFROM:-0800
TZOFFSETTO:-0700
TZNAME:PDT
DTSTART:20260308T100000
END:DAYLIGHT
BEGIN:STANDARD
TZOFFSETFROM:-0700
TZOFFSETTO:-0800
TZNAME:PST
DTSTART:20261101T090000
END:STANDARD
BEGIN:DAYLIGHT
TZOFFSETFROM:-0800
TZOFFSETTO:-0700
TZNAME:PDT
DTSTART:20270314T100000
END:DAYLIGHT
BEGIN:STANDARD
TZOFFSETFROM:-0700
TZOFFSETTO:-0800
TZNAME:PST
DTSTART:20271107T090000
END:STANDARD
END:VTIMEZONE
BEGIN:VEVENT
DTSTART;TZID=America/Los_Angeles:20260503T164500
DTEND;TZID=America/Los_Angeles:20260503T181500
DTSTAMP:20260420T161534
CREATED:20250813T184809Z
LAST-MODIFIED:20250908T215719Z
UID:10013348-1777826700-1777832100@ecww.org
SUMMARY:A Family Series: The Health and Spirituality of Childhood
DESCRIPTION:1st Sundays – October\, November\, December\, March 2026\, and May 2026 – 4:45 pm \n$25/family per session or $125 total/family \nParents naturally prioritize their child’s mental\, emotional\, and physical well-being—but true balance includes spiritual health\, too. It’s time we make that a priority. \nJoin Epiphany Parish for this year’s Family Series\, a five-part journey exploring the wholistic well-being of children. Through engaging sessions led by featured experts\, families will dive into topics ranging from navigating kids’ big questions about God to understanding the deep connections between body\, mind\, and spirit.
URL:https://ecww.org/event/a-family-series-the-health-and-spirituality-of-childhood/2026-05-03/
LOCATION:Epiphany Parish\, Seattle\, 1805 38th Ave\, Seattle\, WA\, 98122\, United States
CATEGORIES:Congregation Event
ATTACH;FMTTYPE=image/png:https://ecww.org/wp-content/uploads/2025/08/80912580_family_series_logo.png
ORGANIZER;CN="The Rev. Kate Wesch":MAILTO:kwesch@epiphanyseattle.org
END:VEVENT
END:VCALENDAR