BEGIN:VCALENDAR
VERSION:2.0
PRODID:-//The Episcopal Diocese of Olympia - ECPv6.15.20//NONSGML v1.0//EN
CALSCALE:GREGORIAN
METHOD:PUBLISH
X-WR-CALNAME:The Episcopal Diocese of Olympia
X-ORIGINAL-URL:https://ecww.org
X-WR-CALDESC:Events for The Episcopal Diocese of Olympia
REFRESH-INTERVAL;VALUE=DURATION:PT1H
X-Robots-Tag:noindex
X-PUBLISHED-TTL:PT1H
BEGIN:VTIMEZONE
TZID:America/Los_Angeles
BEGIN:DAYLIGHT
TZOFFSETFROM:-0800
TZOFFSETTO:-0700
TZNAME:PDT
DTSTART:20250309T100000
END:DAYLIGHT
BEGIN:STANDARD
TZOFFSETFROM:-0700
TZOFFSETTO:-0800
TZNAME:PST
DTSTART:20251102T090000
END:STANDARD
BEGIN:DAYLIGHT
TZOFFSETFROM:-0800
TZOFFSETTO:-0700
TZNAME:PDT
DTSTART:20260308T100000
END:DAYLIGHT
BEGIN:STANDARD
TZOFFSETFROM:-0700
TZOFFSETTO:-0800
TZNAME:PST
DTSTART:20261101T090000
END:STANDARD
BEGIN:DAYLIGHT
TZOFFSETFROM:-0800
TZOFFSETTO:-0700
TZNAME:PDT
DTSTART:20270314T100000
END:DAYLIGHT
BEGIN:STANDARD
TZOFFSETFROM:-0700
TZOFFSETTO:-0800
TZNAME:PST
DTSTART:20271107T090000
END:STANDARD
END:VTIMEZONE
BEGIN:VEVENT
DTSTART;TZID=America/Los_Angeles:20260308T140000
DTEND;TZID=America/Los_Angeles:20260308T153000
DTSTAMP:20260419T093618
CREATED:20260227T172215Z
LAST-MODIFIED:20260227T172215Z
UID:10014286-1772978400-1772983800@ecww.org
SUMMARY:American Teenager: How Trans Kids are Surviving Hate and Finding Joy in a Turbulent Era
DESCRIPTION:March 8\, 2:00 pm \nA reading by Author\, Nico Lang and Q&A at St. James\, Kent.
URL:https://ecww.org/event/american-teenager-how-trans-kids-are-surviving-hate-and-finding-joy-in-a-turbulent-era/
LOCATION:St. James\, Kent\, 24447 94th Ave S\, Kent\, WA\, 98030\, United States
CATEGORIES:Congregation Event
ATTACH;FMTTYPE=image/png:https://ecww.org/wp-content/uploads/2026/02/KentFlier-scaled.png
END:VEVENT
BEGIN:VEVENT
DTSTART;VALUE=DATE:20260201
DTEND;VALUE=DATE:20260202
DTSTAMP:20260419T093618
CREATED:20251018T000926Z
LAST-MODIFIED:20251018T000926Z
UID:10013992-1769904000-1769990399@ecww.org
SUMMARY:Bishop LaBelle's Visitation to St. James\, Kent
DESCRIPTION:February 1 \nBishop LaBelle’s Visitation to St. James\, Kent
URL:https://ecww.org/event/bishop-labelles-visitation-to-st-james-kent/
LOCATION:St. James\, Kent\, 24447 94th Ave S\, Kent\, WA\, 98030\, United States
CATEGORIES:Bishop Visits
ORGANIZER;CN="Michael Seewer":MAILTO:mseewer@ecww.org
END:VEVENT
END:VCALENDAR